BEGIN:VCALENDAR
VERSION:2.0
PRODID:-//ViViCrema//NONSGML v1.0//EN
CALSCALE:GREGORIAN
METHOD:PUBLISH
X-WR-CALNAME:ViViCrema
X-ORIGINAL-URL:https://vivicrema.cremaonline.it
X-WR-CALDESC:Appuntamenti a Crema e dintorni
BEGIN:VEVENT
LOCATION:piazza Trento e Trieste\, 6\, Crema\, Italia
DESCRIPTION:Presso il Teatro San Domenico a Crema\, per la rassegna STELLINE IN SCENA \, si terrà lo spettacolo&nbsp\;SPIE PER CASOa cura di APS Rosso di Scena.Tratto da Don’t Drink the Water di Woody AllenTraduzione Federico GaleottiAdattamento e regia Miriam AlbloisNel 1969\, in piena Guerra Fredda\, una coppia di turisti americani si ritrova invischiata in un intrigo internazionale. Durante una vacanza\, in un imprecisato paese dell’Est Europa\, scattano\, senza rendersene conto\, alcune fotografie molto compromettenti.Le autorità locali li scambiano per spie e scatta l’allarme diplomatico.Braccati dalla polizia segreta\, i due trovano rifugio nell’Ambasciata Americana\, dove però la situazione è tutt’altro che rassicurante. L’Ambasciatore è assente e la sede è momentaneamente sotto la gestione della figlia Linda\, una giovane donna del tutto impreparata al ruolo. Tra tensioni\, minacce e goffi tentativi di negoziazione\, sarà proprio Linda con la sua imprevedibile fantasia e incoscienza\, a ideare un piano tanto ingegnoso quanto caotico per aiutare i due a fuggire dal Paese prima che sia troppo tardi.         Biglietti:Acquista onlineInformazioni:tel. 0373.85418
DTSTART:1776538800
DTEND:1776549540
SUMMARY:Spettacolo: SPIE PER CASO
URL;VALUE=URI:https://mail.vivicrema.com:443/Evento/13309/2026-04-18/Crema/Teatro_San_Domenico/Spettacolo_SPIE_PER_CASO.html
ATTACH:\;FMTTYPE=image/jpeg:https://mail.vivicrema.com:443/imgs/eventi/locandina_13309.jpg
DTSTAMP:20260420T105904Z
UID:69e5ead85ed03
END:VEVENT
END:VCALENDAR